BEGIN:VCALENDAR
VERSION:2.0
PRODID:-//Stichting Herdenkingen Nuenen - ECPv6.15.20//NONSGML v1.0//EN
CALSCALE:GREGORIAN
METHOD:PUBLISH
X-WR-CALNAME:Stichting Herdenkingen Nuenen
X-ORIGINAL-URL:https://stichtingherdenkingennuenen.nl
X-WR-CALDESC:Evenementen voor Stichting Herdenkingen Nuenen
REFRESH-INTERVAL;VALUE=DURATION:PT1H
X-Robots-Tag:noindex
X-PUBLISHED-TTL:PT1H
BEGIN:VTIMEZONE
TZID:UTC
BEGIN:STANDARD
TZOFFSETFROM:+0000
TZOFFSETTO:+0000
TZNAME:UTC
DTSTART:20240101T000000
END:STANDARD
END:VTIMEZONE
BEGIN:VEVENT
DTSTART;TZID=UTC:20250919T100000
DTEND;TZID=UTC:20250919T104500
DTSTAMP:20260422T222747
CREATED:20250903T212536Z
LAST-MODIFIED:20250903T212731Z
UID:898-1758276000-1758278700@stichtingherdenkingennuenen.nl
SUMMARY:Parachutisten 1e dropping
DESCRIPTION:Parachutisten 1e dropping | Mierlosedijk/Vaarle
URL:https://stichtingherdenkingennuenen.nl/event/parachutisten-1e-dropping/
LOCATION:Mierlosedijk/Vaarle\, Mierlosedijk\, Nuenen\, Netherlands
END:VEVENT
BEGIN:VEVENT
DTSTART;TZID=UTC:20250919T100000
DTEND;TZID=UTC:20250919T171500
DTSTAMP:20260422T222747
CREATED:20250617T223247Z
LAST-MODIFIED:20250903T211510Z
UID:202-1758276000-1758302100@stichtingherdenkingennuenen.nl
SUMMARY:Militaire voertuigen in het Park Nuenen
DESCRIPTION:
URL:https://stichtingherdenkingennuenen.nl/event/militaire-voertuigen-in-het-park-nuenen/
LOCATION:Park Nuenen\, Park\, Nuenen\, Park\, Netherlands
ORGANIZER;CN="Stichting Herdenkingen Nuenen":MAILTO:info@stichtingherdenkingennuenen.nl
END:VEVENT
BEGIN:VEVENT
DTSTART;TZID=UTC:20250919T113000
DTEND;TZID=UTC:20250919T120000
DTSTAMP:20260422T222747
CREATED:20250903T212814Z
LAST-MODIFIED:20250903T212814Z
UID:901-1758281400-1758283200@stichtingherdenkingennuenen.nl
SUMMARY:Parachutisten 2e dropping
DESCRIPTION:Parachutisten 2e dropping
URL:https://stichtingherdenkingennuenen.nl/event/parachutisten-2e-dropping/
LOCATION:Mierlosedijk/Vaarle\, Mierlosedijk\, Nuenen\, Netherlands
END:VEVENT
BEGIN:VEVENT
DTSTART;TZID=UTC:20250919T171500
DTEND;TZID=UTC:20250919T180000
DTSTAMP:20260422T222747
CREATED:20250617T223440Z
LAST-MODIFIED:20250903T211437Z
UID:205-1758302100-1758304800@stichtingherdenkingennuenen.nl
SUMMARY:Ophalen bevrijdingsvuur Eindhoven
DESCRIPTION:
URL:https://stichtingherdenkingennuenen.nl/event/ophalen-bevrijdingsvuur-eindhoven/
LOCATION:Park Nuenen\, Park\, Nuenen\, Park\, Netherlands
END:VEVENT
BEGIN:VEVENT
DTSTART;TZID=UTC:20250919T180000
DTEND;TZID=UTC:20250919T184500
DTSTAMP:20260422T222747
CREATED:20250617T223642Z
LAST-MODIFIED:20250903T211318Z
UID:207-1758304800-1758307500@stichtingherdenkingennuenen.nl
SUMMARY:Herdenkingsbijeenkomst in de H. Clemenskerk
DESCRIPTION:Herdenkingsbijeenkomst in de H. Clemenskerk
URL:https://stichtingherdenkingennuenen.nl/event/herdenkingsbijeenkomst-in-de-h-clemenskerk/
LOCATION:Park\, Park 53\, Nuenen\, Park\, 5671GC\, Netherlands
END:VEVENT
BEGIN:VEVENT
DTSTART;TZID=UTC:20250919T200000
DTEND;TZID=UTC:20250919T210000
DTSTAMP:20260422T222747
CREATED:20250903T211611Z
LAST-MODIFIED:20250903T211611Z
UID:893-1758312000-1758315600@stichtingherdenkingennuenen.nl
SUMMARY:Optreden Big Band van de 101ste Airborne Division
DESCRIPTION:Optreden Big Band van de 101ste Airborne Division
URL:https://stichtingherdenkingennuenen.nl/event/optreden-big-band-van-de-101ste-airborne-division/
LOCATION:Park Nuenen\, Park\, Nuenen\, Park\, Netherlands
END:VEVENT
BEGIN:VEVENT
DTSTART;TZID=UTC:20250919T210000
DTEND;TZID=UTC:20250919T220000
DTSTAMP:20260422T222747
CREATED:20250903T211739Z
LAST-MODIFIED:20250903T211739Z
UID:895-1758315600-1758319200@stichtingherdenkingennuenen.nl
SUMMARY:Optreden Nederlandse band De Kalashnikovs
DESCRIPTION:Optreden Nederlandse band De Kalashnikovs
URL:https://stichtingherdenkingennuenen.nl/event/optreden-nederlandse-band-de-kalashnikovs/
LOCATION:Park Nuenen\, Park\, Nuenen\, Park\, Netherlands
END:VEVENT
END:VCALENDAR