BEGIN:VCALENDAR
VERSION:2.0
PRODID:-//Stichting Herdenkingen Nuenen - ECPv6.15.20//NONSGML v1.0//EN
CALSCALE:GREGORIAN
METHOD:PUBLISH
X-WR-CALNAME:Stichting Herdenkingen Nuenen
X-ORIGINAL-URL:https://stichtingherdenkingennuenen.nl
X-WR-CALDESC:Evenementen voor Stichting Herdenkingen Nuenen
REFRESH-INTERVAL;VALUE=DURATION:PT1H
X-Robots-Tag:noindex
X-PUBLISHED-TTL:PT1H
BEGIN:VTIMEZONE
TZID:UTC
BEGIN:STANDARD
TZOFFSETFROM:+0000
TZOFFSETTO:+0000
TZNAME:UTC
DTSTART:20250101T000000
END:STANDARD
END:VTIMEZONE
BEGIN:VEVENT
DTSTART;TZID=UTC:20260504T193000
DTEND;TZID=UTC:20260504T203000
DTSTAMP:20260422T131642
CREATED:20250506T205646Z
LAST-MODIFIED:20250903T210707Z
UID:53-1777923000-1777926600@stichtingherdenkingennuenen.nl
SUMMARY:Dodenherdenking 2026
DESCRIPTION:Op woensdag 4 mei vindt de jaarlijkse Nationale Dodenherdenking plaats. Op 4 mei hangen we de Nederlandse vlag halfstok. \nWij nodigen u graag uit voor de Dodenherdenking Nuenen op woensdag 4 mei 2026 om 19.15 uur. We herdenken bij het oorlogsmonument ‘Wederopstanding is bevrijding’\, aan de Parkstraat (naast huisnummer 69\, bij de rotonde). \nDe gemeente Nuenen heeft de afgelopen jaren\, tijdens de coronapandemie\, een kleine ceremonie gehouden die door de LON werd uitgezonden op 4 mei. Nu we weer kunnen ontmoeten en herdenken\, houden we tijdens de Nationale Dodenherdenking op 4 mei voor het eerst in Nuenen een herdenking bij het monument. \nTijdens de herdenking worden er kransen gelegd.  Iets voor 20:00 uur klinkt het taptoe-signaal. Precies om 20:00 uur houden we twee minuten stilte. Daarna brengt Brass Band Nuenen het Wilhelmus ten gehore. \nWij hopen u te mogen begroeten bij de Dodenherdenking Nuenen en stellen uw aanwezigheid zeer op prijs.
URL:https://stichtingherdenkingennuenen.nl/event/dodenherdenking-2026/
LOCATION:Oorlogsmonument Nuenen\, Parkstraat 69\, Nuenen\, Parkstraat\, Netherlands
ORGANIZER;CN="Stichting Herdenkingen Nuenen":MAILTO:info@stichtingherdenkingennuenen.nl
END:VEVENT
END:VCALENDAR